BEGIN:VCALENDAR
VERSION:2.0
PRODID:37. Norddeutsche Anästhesietage
BEGIN:VEVENT
DTSTART:20260123
DTEND:20260125
DTSTAMP:20250417T095312Z
X-MICROSOFT-CDO-ALLDAYEVENT:TRUE
X-MICROSOFT-MSNCALENDAR-ALLDAYEVENT:TRUE
SUMMARY:37. Norddeutsche Anästhesietage
DESCRIPTION:https://www.regionaltagungen.de/rt/nat-kongress/index.php
LOCATION:Audimax der Universität zu Lübeck
UID:75196
END:VEVENT
END:VCALENDAR
